BEGIN:VCALENDAR
VERSION:2.0
PRODID:DPCALENDAR
CALSCALE:GREGORIAN
X-WR-TIMEZONE:UTC
BEGIN:VEVENT
DTSTART;TZID=UTC:20231111T140000
DTEND;TZID=UTC:20231111T170000
UID:3DC9A608-6CD0-49C3-A544-F7B493F7741A
SUMMARY:Heimspiel SV Roland Belgern (Herren)
CREATED:20231107T083936Z
DTSTAMP:20231107T083936Z
URL:https://sv-naundorf.de/index.php/vereinsheim-kalender/heimspiel-sv-roland-belgern-herren
DESCRIPTION:Heimspiel SV Roland Belgern (Herren)
X-ALT-DESC;FMTTYPE=text/html:<p>Heimspiel SV Roland Belgern (Herren)</p>
LAST-MODIFIED:20231107T084748Z
SEQUENCE:492
X-ACCESS:1
X-HITS:21
X-COLOR:ffff00
X-SHOW-END-TIME:0
END:VEVENT
BEGIN:VEVENT
DTSTART;TZID=UTC:20231112T103000
DTEND;TZID=UTC:20231112T123000
UID:45AD5B8E-EE54-4A24-A83B-B935700D685E
SUMMARY:Heimspiel SpG Doberschütz-M./Mörtitz (B-Jugend)
CREATED:20231107T084339Z
DTSTAMP:20231107T084339Z
URL:https://sv-naundorf.de/index.php/vereinsheim-kalender/heimspiel-spg-doberschuetz-m-moertitz-b-jugend
DESCRIPTION:Heimspiel SpG Doberschütz-M./Mörtitz (B-Jugend)
X-ALT-DESC;FMTTYPE=text/html:<p>Heimspiel SpG Doberschütz-M./Mörtitz (B-Jugend)</p>
LAST-MODIFIED:20231107T084447Z
SEQUENCE:68
X-ACCESS:1
X-HITS:23
X-COLOR:ffff00
X-SHOW-END-TIME:0
END:VEVENT
BEGIN:VEVENT
DTSTART;TZID=UTC:20231118T140000
DTEND;TZID=UTC:20231118T170000
UID:83CD74FC-557F-4BE7-8D1A-43146002DC75
SUMMARY:Heimspiel FSV Blau-Weiß Wermsdorf (Herren)
CREATED:20231107T090334Z
DTSTAMP:20231107T090334Z
URL:https://sv-naundorf.de/index.php/vereinsheim-kalender/heimspiel-fsv-blau-weiss-wermsdorf-herren
DESCRIPTION:Heimspiel FSV Blau-Weiß Wermsdorf (Herren)
X-ALT-DESC;FMTTYPE=text/html:<p>Heimspiel FSV Blau-Weiß Wermsdorf (Herren)</p>
X-ACCESS:1
X-HITS:23
X-COLOR:ffff00
X-SHOW-END-TIME:0
END:VEVENT
BEGIN:VEVENT
DTSTART;VALUE=DATE:20231125
DTEND;VALUE=DATE:20231126
UID:8E74273A-7A9C-427F-9700-70EB87E586E2
SUMMARY:belegt
CREATED:20231101T185003Z
DTSTAMP:20231101T185003Z
URL:https://sv-naundorf.de/index.php/vereinsheim-kalender/belegt
DESCRIPTION:Geburtstag Michael Winkler Reichert
X-ALT-DESC;FMTTYPE=text/html:<p>Geburtstag Michael Winkler Reichert</p>
LAST-MODIFIED:20231101T194124Z
SEQUENCE:3081
X-ACCESS:1
X-HITS:29
X-COLOR:ffff00
X-SHOW-END-TIME:0
END:VEVENT
BEGIN:VEVENT
DTSTART;TZID=UTC:20231126T110000
DTEND;TZID=UTC:20231126T130000
UID:FCE3BDB7-30D4-4988-B1FB-760B7E9F7215
SUMMARY:Heimspiel SV Laußig (B-Jugend)
CREATED:20231107T084557Z
DTSTAMP:20231107T084557Z
URL:https://sv-naundorf.de/index.php/vereinsheim-kalender/heimspiel-sv-laussig-b-jugend
DESCRIPTION:Heimspiel SV Laußig (B-Jugend)
X-ALT-DESC;FMTTYPE=text/html:<p>Heimspiel SV Laußig (B-Jugend)</p>
X-ACCESS:1
X-HITS:21
X-COLOR:ffff00
X-SHOW-END-TIME:0
END:VEVENT
BEGIN:VEVENT
DTSTART;VALUE=DATE:20231202
DTEND;VALUE=DATE:20231203
UID:3CB9B338-88B9-46F0-861F-0F6AD87E06CD
SUMMARY:belegt
CREATED:20231101T194207Z
DTSTAMP:20231101T194207Z
URL:https://sv-naundorf.de/index.php/vereinsheim-kalender/belegt-4
DESCRIPTION:Weihnachtsfeier 1. Herren
X-ALT-DESC;FMTTYPE=text/html:<p>Weihnachtsfeier 1. Herren</p>
LAST-MODIFIED:20231107T090412Z
SEQUENCE:480125
X-ACCESS:1
X-HITS:21
X-COLOR:ffff00
X-SHOW-END-TIME:0
END:VEVENT
BEGIN:VEVENT
DTSTART;TZID=UTC:20231211T190000
DTEND;TZID=UTC:20231211T210000
UID:C0FEAF97-BCFC-4418-BF58-A29826D5E91C
SUMMARY:belegt
CREATED:20231119T141637Z
DTSTAMP:20231119T141637Z
URL:https://sv-naundorf.de/index.php/vereinsheim-kalender/belegt-12
DESCRIPTION:Vorstandssitzung
X-ALT-DESC;FMTTYPE=text/html:<p>Vorstandssitzung</p>
X-ACCESS:1
X-HITS:23
X-COLOR:ffff00
X-SHOW-END-TIME:0
END:VEVENT
BEGIN:VEVENT
DTSTART;TZID=UTC:20231214T160000
DTEND;TZID=UTC:20231214T210000
UID:B47B0854-A01F-4330-A42E-8EF074AF664B
SUMMARY:belegt
CREATED:20231206T110254Z
DTSTAMP:20231206T110254Z
URL:https://sv-naundorf.de/index.php/vereinsheim-kalender/belegt-13
DESCRIPTION:Weihnachtsfeier B- Jugend
X-ALT-DESC;FMTTYPE=text/html:<p>Weihnachtsfeier B- Jugend</p>
X-ACCESS:1
X-HITS:24
X-COLOR:ffff00
X-SHOW-END-TIME:0
END:VEVENT
BEGIN:VEVENT
DTSTART;TZID=UTC:20231222T170000
DTEND;TZID=UTC:20231222T230000
UID:0C2CC3D9-39EE-4995-B05C-2B7C5180DCC1
SUMMARY:belegt
CREATED:20231119T141039Z
DTSTAMP:20231119T141039Z
URL:https://sv-naundorf.de/index.php/vereinsheim-kalender/belegt-11
DESCRIPTION:Ingo
X-ALT-DESC;FMTTYPE=text/html:<p>Ingo</p>
LAST-MODIFIED:20231119T141920Z
SEQUENCE:521
X-ACCESS:1
X-HITS:19
X-COLOR:ffff00
X-SHOW-END-TIME:0
END:VEVENT
BEGIN:VEVENT
DTSTART;TZID=UTC:20231226T160000
DTEND;TZID=UTC:20231226T220000
UID:A072E26D-6954-49F2-B9D0-3761BE6DF056
SUMMARY:belegt
CREATED:20231107T085514Z
DTSTAMP:20231107T085514Z
URL:https://sv-naundorf.de/index.php/vereinsheim-kalender/belegt-7
DESCRIPTION:Skatturnier
X-ALT-DESC;FMTTYPE=text/html:<p>Skatturnier</p>
X-ACCESS:1
X-HITS:25
X-COLOR:3366cc
X-SHOW-END-TIME:0
END:VEVENT
BEGIN:VEVENT
DTSTART;VALUE=DATE:20240106
DTEND;VALUE=DATE:20240107
UID:5DDBFA28-1ADC-4179-AB85-A60CC81B4376
SUMMARY:belegt
CREATED:20231107T085250Z
DTSTAMP:20231107T085250Z
URL:https://sv-naundorf.de/index.php/vereinsheim-kalender/belegt-5
DESCRIPTION:Geburtstagsfeier Helfried
X-ALT-DESC;FMTTYPE=text/html:<p>Geburtstagsfeier Helfried</p>
X-ACCESS:1
X-HITS:19
X-COLOR:ffff00
X-SHOW-END-TIME:0
END:VEVENT
BEGIN:VEVENT
DTSTART;VALUE=DATE:20240113
DTEND;VALUE=DATE:20240114
UID:1221D053-A5BC-4095-A0A1-F34F288FAB1A
SUMMARY:belegt
CREATED:20231107T085339Z
DTSTAMP:20231107T085339Z
URL:https://sv-naundorf.de/index.php/vereinsheim-kalender/belegt-6
DESCRIPTION:Geburtstagsfeier Dennis
X-ALT-DESC;FMTTYPE=text/html:<p>Geburtstagsfeier Dennis</p>
X-ACCESS:1
X-HITS:21
X-COLOR:ffff00
X-SHOW-END-TIME:0
END:VEVENT
BEGIN:VEVENT
DTSTART;TZID=UTC:20240202T190000
DTEND;TZID=UTC:20240202T210000
UID:AC4D9455-2CEF-4C29-8B1C-D6FAEF316246
SUMMARY:Jahreshauptversammlung
CREATED:20231119T141400Z
DTSTAMP:20231119T141400Z
URL:https://sv-naundorf.de/index.php/vereinsheim-kalender/jahreshauptversammlung
LAST-MODIFIED:20231119T141524Z
SEQUENCE:84
X-ACCESS:1
X-HITS:21
X-COLOR:ffff00
X-SHOW-END-TIME:0
END:VEVENT
BEGIN:VEVENT
DTSTART;TZID=UTC:20240413T150000
DTEND;TZID=UTC:20240413T180000
UID:983007CC-9FFE-4A18-BD62-15E408E93B61
SUMMARY:Heimspiel Herren FSV Beilrode
CREATED:20240328T160048Z
DTSTAMP:20240328T160048Z
URL:https://sv-naundorf.de/index.php/vereinsheim-kalender/heimspiel-herren-fsv-beilrode
X-ACCESS:1
X-HITS:23
X-COLOR:4444ff
X-SHOW-END-TIME:1
END:VEVENT
BEGIN:VEVENT
DTSTART;VALUE=DATE:20240420
DTEND;VALUE=DATE:20240421
UID:F7604330-5A97-41B9-8DBE-00D01A0FF3A5
SUMMARY:belegt
CREATED:20240201T230926Z
DTSTAMP:20240201T230926Z
URL:https://sv-naundorf.de/index.php/vereinsheim-kalender/belegt-14
DESCRIPTION:Micha
X-ALT-DESC;FMTTYPE=text/html:<p>Micha</p>
LAST-MODIFIED:20240201T231043Z
SEQUENCE:77
X-ACCESS:1
X-HITS:22
X-COLOR:ffff00
X-SHOW-END-TIME:0
END:VEVENT
BEGIN:VEVENT
DTSTART;TZID=UTC:20240420T100000
DTEND;TZID=UTC:20240420T123000
UID:FA90B164-EFA2-4C12-BFBC-AED2A7410640
SUMMARY:G-Jugend Kreisturnier
CREATED:20240328T161257Z
DTSTAMP:20240328T161257Z
URL:https://sv-naundorf.de/index.php/vereinsheim-kalender/g-jugend-turnier
LAST-MODIFIED:20240328T161846Z
SEQUENCE:349
X-ACCESS:1
X-HITS:19
X-COLOR:4444ff
X-SHOW-END-TIME:1
END:VEVENT
BEGIN:VEVENT
DTSTART;TZID=UTC:20240421T103000
DTEND;TZID=UTC:20240421T123000
UID:0E15C65D-FDDC-4BB5-AF5D-89B2369B963F
SUMMARY:Heimspiel B-Jugend SpG Wermsdorf/Luppa
CREATED:20240328T160513Z
DTSTAMP:20240328T160513Z
URL:https://sv-naundorf.de/index.php/vereinsheim-kalender/heimspiel-b-jugend-spg-wermsdorf-luppa
X-ACCESS:1
X-HITS:20
X-COLOR:4444ff
X-SHOW-END-TIME:1
END:VEVENT
BEGIN:VEVENT
DTSTART;TZID=UTC:20240427T150000
DTEND;TZID=UTC:20240427T180000
UID:DDC3A1D6-6C96-432A-9D37-E534A64719D5
SUMMARY:Heimspiel Herren SV Zwochau
CREATED:20240328T160153Z
DTSTAMP:20240328T160153Z
URL:https://sv-naundorf.de/index.php/vereinsheim-kalender/heimspiel-herren-sv-zwochau
X-ACCESS:1
X-HITS:21
X-COLOR:4444ff
X-SHOW-END-TIME:1
END:VEVENT
BEGIN:VEVENT
DTSTART;TZID=UTC:20240428T103000
DTEND;TZID=UTC:20240428T123000
UID:A782705A-38FE-434D-BB98-81AC1A0157F3
SUMMARY:Heimspiel B-Jugend SV Merkwitz
CREATED:20240328T160606Z
DTSTAMP:20240328T160606Z
URL:https://sv-naundorf.de/index.php/vereinsheim-kalender/heimspiel-b-jugend-sv-merkwitz
X-ACCESS:1
X-HITS:20
X-COLOR:4444ff
X-SHOW-END-TIME:1
END:VEVENT
BEGIN:VEVENT
DTSTART;VALUE=DATE:20240504
DTEND;VALUE=DATE:20240505
UID:16A4010F-7F01-4379-95A6-3756364E9065
SUMMARY: belegt
CREATED:20231107T085705Z
DTSTAMP:20231107T085705Z
URL:https://sv-naundorf.de/index.php/vereinsheim-kalender/belegt-8
DESCRIPTION:Niklas Freis (Jugendweihe)
X-ALT-DESC;FMTTYPE=text/html:<p>Niklas Freis (Jugendweihe)</p>
LAST-MODIFIED:20231107T085711Z
SEQUENCE:6
X-ACCESS:1
X-HITS:20
X-COLOR:ffff00
X-SHOW-END-TIME:0
END:VEVENT
BEGIN:VEVENT
DTSTART;TZID=UTC:20240505T100000
DTEND;TZID=UTC:20240505T130000
UID:8F822288-3C1C-4BCA-A472-5D5C6CAB2692
SUMMARY:E-Jugend Kreisturnier
CREATED:20240328T161436Z
DTSTAMP:20240328T161436Z
URL:https://sv-naundorf.de/index.php/vereinsheim-kalender/e-jugend-kreisturnier
X-ACCESS:1
X-HITS:19
X-COLOR:4444ff
X-SHOW-END-TIME:1
END:VEVENT
BEGIN:VEVENT
DTSTART;TZID=UTC:20240508T180000
DTEND;TZID=UTC:20240508T200000
UID:43E68031-4DE7-4DA3-9BD1-1767D1821BFA
SUMMARY:Heimspiel B-Jugend SV Laußig 51
CREATED:20240328T160651Z
DTSTAMP:20240328T160651Z
URL:https://sv-naundorf.de/index.php/vereinsheim-kalender/heimspiel-b-jugend-sv-laussig-51
X-ACCESS:1
X-HITS:21
X-COLOR:4444ff
X-SHOW-END-TIME:1
END:VEVENT
BEGIN:VEVENT
DTSTART;TZID=UTC:20240510T180000
DTEND;TZID=UTC:20240510T220000
UID:A41A60D0-E3CD-4E74-9C7F-10DAF35D787A
SUMMARY:belegt
CREATED:20240414T164530Z
DTSTAMP:20240414T164530Z
URL:https://sv-naundorf.de/index.php/vereinsheim-kalender/belegt-18
DESCRIPTION:Ingo
X-ALT-DESC;FMTTYPE=text/html:<p>Ingo</p>
X-ACCESS:1
X-HITS:19
X-COLOR:ffff00
X-SHOW-END-TIME:1
END:VEVENT
BEGIN:VEVENT
DTSTART;TZID=UTC:20240511T150000
DTEND;TZID=UTC:20240511T180000
UID:5849C057-9EEA-49BC-AB68-405E69C504E4
SUMMARY:Heimspiel Herren FSV Wacker Dahlen
CREATED:20240328T160245Z
DTSTAMP:20240328T160245Z
URL:https://sv-naundorf.de/index.php/vereinsheim-kalender/heimspiel-herren-fsv-wacker-dahlen
X-ACCESS:1
X-HITS:21
X-COLOR:4444ff
X-SHOW-END-TIME:1
END:VEVENT
BEGIN:VEVENT
DTSTART;VALUE=DATE:20240519
DTEND;VALUE=DATE:20240520
UID:E0D0DBCF-EA2D-46B4-A34F-99CC9BF69606
SUMMARY:belegt
CREATED:20231107T085813Z
DTSTAMP:20231107T085813Z
URL:https://sv-naundorf.de/index.php/vereinsheim-kalender/belegt-9
DESCRIPTION:Luisa Kunath
X-ALT-DESC;FMTTYPE=text/html:<p>Luisa Kunath</p>
X-ACCESS:1
X-HITS:22
X-COLOR:ffff00
X-SHOW-END-TIME:0
END:VEVENT
BEGIN:VEVENT
DTSTART;TZID=UTC:20240526T103000
DTEND;TZID=UTC:20240526T123000
UID:83071900-6AAF-454A-A336-7C1D11012786
SUMMARY:Heimspiel B-Jugend SV Concordia Schenkenberg
CREATED:20240328T160820Z
DTSTAMP:20240328T160820Z
URL:https://sv-naundorf.de/index.php/vereinsheim-kalender/heimspiel-b-jugend-sv-concordia-schenkenberg
X-ACCESS:1
X-HITS:20
X-COLOR:4444ff
X-SHOW-END-TIME:1
END:VEVENT
BEGIN:VEVENT
DTSTART;TZID=UTC:20240601T150000
DTEND;TZID=UTC:20240601T180000
UID:BC6A3F60-1CFD-450D-BCE9-447D17E9088F
SUMMARY:Heimspiel Herren SV Mügeln-Ablaß
CREATED:20240328T160328Z
DTSTAMP:20240328T160328Z
URL:https://sv-naundorf.de/index.php/vereinsheim-kalender/heimspiel-herren-sv-muegeln-ablass
X-ACCESS:1
X-HITS:21
X-COLOR:4444ff
X-SHOW-END-TIME:1
END:VEVENT
BEGIN:VEVENT
DTSTART;TZID=UTC:20240602T103000
DTEND;TZID=UTC:20240602T120000
UID:E6E1966A-52E1-4BA3-BCD3-95118A4D9A8D
SUMMARY:Heimspiel E-Jugend SV Jesewitz
CREATED:20240328T161633Z
DTSTAMP:20240328T161633Z
URL:https://sv-naundorf.de/index.php/vereinsheim-kalender/heimspiel-e-jugend-sv-jesewitz
X-ACCESS:1
X-HITS:20
X-COLOR:4444ff
X-SHOW-END-TIME:1
END:VEVENT
BEGIN:VEVENT
DTSTART;TZID=UTC:20240609T103000
DTEND;TZID=UTC:20240609T123000
UID:8B175D7C-7994-4C58-808B-AD99EDFBAF9B
SUMMARY:Heimspiel B-Jugend Radefelder SV
CREATED:20240328T160856Z
DTSTAMP:20240328T160856Z
URL:https://sv-naundorf.de/index.php/vereinsheim-kalender/heimspiel-b-jugend-radefelder-sv
LAST-MODIFIED:20240328T160904Z
SEQUENCE:8
X-ACCESS:1
X-HITS:20
X-COLOR:4444ff
X-SHOW-END-TIME:1
END:VEVENT
BEGIN:VEVENT
DTSTART;VALUE=DATE:20240614
DTEND;VALUE=DATE:20240615
UID:92C76F85-E32D-4887-8AE2-903D88855E5B
SUMMARY:Vereinsfest
CREATED:20240328T160947Z
DTSTAMP:20240328T160947Z
URL:https://sv-naundorf.de/index.php/vereinsheim-kalender/vereinsfest
X-ACCESS:1
X-HITS:21
X-COLOR:ffff00
X-SHOW-END-TIME:0
END:VEVENT
BEGIN:VEVENT
DTSTART;VALUE=DATE:20240615
DTEND;VALUE=DATE:20240616
UID:C3C64A96-20DA-4D17-B6B0-33AE038222EC
SUMMARY:Vereinsfest
CREATED:20240328T161008Z
DTSTAMP:20240328T161008Z
URL:https://sv-naundorf.de/index.php/vereinsheim-kalender/vereinsfest-2
X-ACCESS:1
X-HITS:19
X-COLOR:ffff00
X-SHOW-END-TIME:0
END:VEVENT
BEGIN:VEVENT
DTSTART;VALUE=DATE:20240616
DTEND;VALUE=DATE:20240617
UID:01D3687B-8D71-4DD1-9D6C-A7154FD09FA3
SUMMARY:Vereinsfest
CREATED:20240328T161030Z
DTSTAMP:20240328T161030Z
URL:https://sv-naundorf.de/index.php/vereinsheim-kalender/vereinsfest-3
LAST-MODIFIED:20240328T161209Z
SEQUENCE:99
X-ACCESS:1
X-HITS:19
X-COLOR:ffff00
X-SHOW-END-TIME:0
END:VEVENT
BEGIN:VEVENT
DTSTART;VALUE=DATE:20240629
DTEND;VALUE=DATE:20240630
UID:0D1D6661-2F6F-4318-AF18-4E2103BB9A7A
SUMMARY:belegt
CREATED:20240328T155724Z
DTSTAMP:20240328T155724Z
URL:https://sv-naundorf.de/index.php/vereinsheim-kalender/belegt-17
DESCRIPTION:Thomas Seiffert Geburtstagsfeier
X-ALT-DESC;FMTTYPE=text/html:<p>Thomas Seiffert Geburtstagsfeier</p>
X-ACCESS:1
X-HITS:20
X-COLOR:ffff00
X-SHOW-END-TIME:0
END:VEVENT
BEGIN:VEVENT
DTSTART;TZID=UTC:20241019T170000
DTEND;TZID=UTC:20241019T230000
UID:C46E1796-D184-416E-A0AA-F127F301D3EB
SUMMARY:belegt
CREATED:20240825T175710Z
DTSTAMP:20240825T175710Z
URL:https://sv-naundorf.de/index.php/vereinsheim-kalender/belegt-20
DESCRIPTION:Katja Timm
X-ALT-DESC;FMTTYPE=text/html:<p>Katja Timm</p>
LAST-MODIFIED:20240825T175710Z
SEQUENCE:0
X-ACCESS:1
X-HITS:23
X-COLOR:ffff00
X-SHOW-END-TIME:0
END:VEVENT
BEGIN:VEVENT
DTSTART;TZID=UTC:20241214T090000
DTEND;TZID=UTC:20241214T170000
UID:EB45ED62-BD5E-4292-8B5E-76475FB27F16
SUMMARY:Weihnachtsbaumverkauf
CREATED:20240825T175350Z
DTSTAMP:20240825T175350Z
URL:https://sv-naundorf.de/index.php/vereinsheim-kalender/weihnachtsbaumverkauf
DESCRIPTION:Weihnachtsbaumverkauf Kämmerei
X-ALT-DESC;FMTTYPE=text/html:<p>Weihnachtsbaumverkauf Kämmerei</p>
LAST-MODIFIED:20240825T175350Z
SEQUENCE:0
X-ACCESS:1
X-HITS:20
X-COLOR:ffff00
X-SHOW-END-TIME:0
END:VEVENT
BEGIN:VEVENT
DTSTART;VALUE=DATE:20250510
DTEND;VALUE=DATE:20250511
UID:43E5CA5D-2C89-456B-901A-55D8B5A8F493
SUMMARY:belegt
CREATED:20231107T090117Z
DTSTAMP:20231107T090117Z
URL:https://sv-naundorf.de/index.php/vereinsheim-kalender/belegt-10
DESCRIPTION:Harry (Jugendweihe)
X-ALT-DESC;FMTTYPE=text/html:<p>Harry (Jugendweihe)</p>
LAST-MODIFIED:20231115T203646Z
SEQUENCE:732929
X-ACCESS:1
X-HITS:20
X-COLOR:ffff00
X-SHOW-END-TIME:0
END:VEVENT
BEGIN:VEVENT
DTSTART;VALUE=DATE:20250517
DTEND;VALUE=DATE:20250518
UID:0AF6FCA4-E098-46F6-B842-F5645BEB6EB2
SUMMARY:belegt
CREATED:20250316T174243Z
DTSTAMP:20250316T174243Z
URL:https://sv-naundorf.de/index.php/vereinsheim-kalender/belegt-25
DESCRIPTION:Jugendweihe Christine Treppte
X-ALT-DESC;FMTTYPE=text/html:<p>Jugendweihe Christine Treppte</p>
LAST-MODIFIED:20250316T174243Z
SEQUENCE:0
X-ACCESS:1
X-HITS:11
X-COLOR:ffff00
X-SHOW-END-TIME:0
END:VEVENT
BEGIN:VEVENT
DTSTART;VALUE=DATE:20250613
DTEND;VALUE=DATE:20250614
UID:1A4CF585-6C34-4BC6-9B47-F9BE4656151B
SUMMARY:belegt
CREATED:20240223T191431Z
DTSTAMP:20240223T191431Z
URL:https://sv-naundorf.de/index.php/vereinsheim-kalender/belegt-15
DESCRIPTION:Familie Huth, 30. Geburtstag
X-ALT-DESC;FMTTYPE=text/html:<p>Familie Huth, 30. Geburtstag</p>
LAST-MODIFIED:20240223T191612Z
SEQUENCE:101
X-ACCESS:1
X-HITS:19
X-COLOR:ffff00
X-SHOW-END-TIME:0
END:VEVENT
BEGIN:VEVENT
DTSTART;TZID=UTC:20250705T100000
DTEND;TZID=UTC:20250705T230000
UID:F68CD37C-AADE-461E-AF03-B3C331D8FCCF
SUMMARY:belegt
CREATED:20240825T175756Z
DTSTAMP:20240825T175756Z
URL:https://sv-naundorf.de/index.php/vereinsheim-kalender/belegt-21
DESCRIPTION:Uwe Handrick
X-ALT-DESC;FMTTYPE=text/html:<p>Uwe Handrick</p>
LAST-MODIFIED:20240825T175756Z
SEQUENCE:0
X-ACCESS:1
X-HITS:19
X-COLOR:ffff00
X-SHOW-END-TIME:0
END:VEVENT
BEGIN:VEVENT
DTSTART;TZID=UTC:20250810T090000
DTEND;TZID=UTC:20250810T180000
UID:A1B64697-A0F2-4382-8C8F-46D31457E5ED
SUMMARY:belegt
CREATED:20250706T182937Z
DTSTAMP:20250706T182937Z
URL:https://sv-naundorf.de/index.php/vereinsheim-kalender/belegt-26
DESCRIPTION:Olaf, ca. 10 bis 16 Uhr
X-ALT-DESC;FMTTYPE=text/html:<p>Olaf, ca. 10 bis 16 Uhr</p>
LAST-MODIFIED:20250706T182937Z
SEQUENCE:0
X-ACCESS:1
X-HITS:4
X-COLOR:ffff00
X-SHOW-END-TIME:0
END:VEVENT
BEGIN:VEVENT
DTSTART;VALUE=DATE:20250831
DTEND;VALUE=DATE:20250901
UID:79ADD40C-2014-448B-B860-A7FB121AC891
SUMMARY:belegt
CREATED:20250706T183120Z
DTSTAMP:20250706T183120Z
URL:https://sv-naundorf.de/index.php/vereinsheim-kalender/belegt-27
DESCRIPTION:Familie Huth (M&M)
X-ALT-DESC;FMTTYPE=text/html:<p>Familie Huth (M&amp;M)</p>
LAST-MODIFIED:20250706T183122Z
SEQUENCE:2
X-ACCESS:1
X-HITS:4
X-COLOR:ffff00
X-SHOW-END-TIME:0
END:VEVENT
BEGIN:VEVENT
DTSTART;VALUE=DATE:20251213
DTEND;VALUE=DATE:20251214
UID:4C0B7D65-B6C4-43BF-8792-4C4640E9BDA4
SUMMARY:Weihnachtsbaumverkauf
CREATED:20251202T065113Z
DTSTAMP:20251202T065113Z
URL:https://sv-naundorf.de/index.php/vereinsheim-kalender/weihnachtsbaumverkauf-2
DESCRIPTION:Weihnachtsbaumverkauf
X-ALT-DESC;FMTTYPE=text/html:<p>Weihnachtsbaumverkauf</p>
LAST-MODIFIED:20251202T065113Z
SEQUENCE:0
X-ACCESS:1
X-HITS:1
X-COLOR:ffff00
X-SHOW-END-TIME:0
END:VEVENT
BEGIN:VEVENT
DTSTART;TZID=UTC:20251216T160000
DTEND;TZID=UTC:20251216T220000
UID:BDBB03B0-F772-4CC9-B7C0-A8DDAE32BEFE
SUMMARY:belegt
CREATED:20251202T064914Z
DTSTAMP:20251202T064914Z
URL:https://sv-naundorf.de/index.php/vereinsheim-kalender/belegt-29
DESCRIPTION:Weihnachtsfeier Peggy
X-ALT-DESC;FMTTYPE=text/html:<p>Weihnachtsfeier Peggy</p>
LAST-MODIFIED:20251215T134717Z
SEQUENCE:1148283
X-ACCESS:1
X-HITS:1
X-COLOR:ffff00
X-SHOW-END-TIME:0
END:VEVENT
BEGIN:VEVENT
DTSTART;TZID=UTC:20251219T150000
DTEND;TZID=UTC:20251220T160000
UID:FE7FE7F6-1409-4F5F-AA41-21612564B3B8
SUMMARY:belegt
CREATED:20251202T065032Z
DTSTAMP:20251202T065032Z
URL:https://sv-naundorf.de/index.php/vereinsheim-kalender/belegt-30
DESCRIPTION:Weihnachtsfeier Peggy
X-ALT-DESC;FMTTYPE=text/html:<p>Weihnachtsfeier Peggy</p>
LAST-MODIFIED:20251202T065032Z
SEQUENCE:0
X-ACCESS:1
X-HITS:3
X-COLOR:ffff00
X-SHOW-END-TIME:1
END:VEVENT
BEGIN:VEVENT
DTSTART;TZID=UTC:20251221T160000
DTEND;TZID=UTC:20251221T230000
UID:2259710E-0270-4FE2-9CF9-AB87420D2801
SUMMARY:belegt
CREATED:20251215T134807Z
DTSTAMP:20251215T134807Z
URL:https://sv-naundorf.de/index.php/vereinsheim-kalender/belegt-31
DESCRIPTION:Weihnachtsfeier A-Jugend
X-ALT-DESC;FMTTYPE=text/html:<p>Weihnachtsfeier A-Jugend</p>
LAST-MODIFIED:20251215T134807Z
SEQUENCE:0
X-ACCESS:1
X-HITS:1
X-COLOR:ffff00
X-SHOW-END-TIME:0
END:VEVENT
BEGIN:VEVENT
DTSTART;TZID=UTC:20251226T170000
DTEND;TZID=UTC:20251226T220000
UID:94851282-8A41-4CBE-9289-163F4EE416B1
SUMMARY:33. Preis-Skat-Turnier
CREATED:20251202T065742Z
DTSTAMP:20251202T065742Z
URL:https://sv-naundorf.de/index.php/vereinsheim-kalender/33-preis-skat-turnier
LAST-MODIFIED:20251202T065742Z
SEQUENCE:0
X-ACCESS:1
X-HITS:1
X-COLOR:ffff00
X-SHOW-END-TIME:0
END:VEVENT
BEGIN:VEVENT
DTSTART;VALUE=DATE:20260221
DTEND;VALUE=DATE:20260222
UID:D8FAE616-7EAB-4379-9B8B-6E000BA21B71
SUMMARY:belegt
CREATED:20260103T091306Z
DTSTAMP:20260103T091306Z
URL:https://sv-naundorf.de/index.php/vereinsheim-kalender/belegt-32
DESCRIPTION:Geburtstagsfeier Brigitte Näther
X-ALT-DESC;FMTTYPE=text/html:<p>Geburtstagsfeier Brigitte Näther</p>
LAST-MODIFIED:20260103T091306Z
SEQUENCE:0
X-ACCESS:1
X-HITS:1
X-COLOR:fff000
X-SHOW-END-TIME:0
END:VEVENT
BEGIN:VEVENT
DTSTART;TZID=UTC:20260314T103000
DTEND;TZID=UTC:20260314T120000
UID:462369CC-BF2B-4459-A9BB-950FDAC72DF7
SUMMARY:Heimspiel D-Jugend, SV Roland Belgern
CREATED:20260306T200848Z
DTSTAMP:20260306T200848Z
URL:https://sv-naundorf.de/index.php/vereinsheim-kalender/heimspiel-d-jugend-sv-roland-belgern
LAST-MODIFIED:20260306T200848Z
SEQUENCE:0
X-ACCESS:1
X-HITS:0
X-COLOR:ffff00
X-SHOW-END-TIME:1
END:VEVENT
BEGIN:VEVENT
DTSTART;TZID=UTC:20260314T150000
DTEND;TZID=UTC:20260314T170000
UID:1AFFF2F7-F88E-4223-A611-BB04EF90881C
SUMMARY:Heimspiel Herren, FSV Beilrode
CREATED:20260306T201046Z
DTSTAMP:20260306T201046Z
URL:https://sv-naundorf.de/index.php/vereinsheim-kalender/heimspiel-herren-fsv-beilrode-2
LAST-MODIFIED:20260306T201046Z
SEQUENCE:0
X-ACCESS:1
X-HITS:0
X-COLOR:ffff00
X-SHOW-END-TIME:1
END:VEVENT
BEGIN:VEVENT
DTSTART;TZID=UTC:20260328T103000
DTEND;TZID=UTC:20260328T120000
UID:2C43C4CA-3CAC-4DA8-8E9B-404627C819E8
SUMMARY:Heimspiel D-Jugend, SpG Grosstreben/Hartenfels Torgau II
CREATED:20260306T201304Z
DTSTAMP:20260306T201304Z
URL:https://sv-naundorf.de/index.php/vereinsheim-kalender/heimspiel-d-jugend-spg-grosstreben-hartenfels-torgau-ii
LAST-MODIFIED:20260306T201304Z
SEQUENCE:0
X-ACCESS:1
X-HITS:0
X-COLOR:ffff00
X-SHOW-END-TIME:1
END:VEVENT
BEGIN:VEVENT
DTSTART;TZID=UTC:20260328T150000
DTEND;TZID=UTC:20260328T170000
UID:B88BA8AF-BB25-42FD-9FF4-FEA56EBF03B3
SUMMARY:Heimspiel Herren, LSG Löbnitz
CREATED:20260306T201400Z
DTSTAMP:20260306T201400Z
URL:https://sv-naundorf.de/index.php/vereinsheim-kalender/heimspiel-herren-lsg-loebnitz
LAST-MODIFIED:20260306T201400Z
SEQUENCE:0
X-ACCESS:1
X-HITS:0
X-COLOR:ffff00
X-SHOW-END-TIME:1
END:VEVENT
BEGIN:VEVENT
DTSTART;TZID=UTC:20260411T150000
DTEND;TZID=UTC:20260411T170000
UID:003AFE8E-9730-49BB-9E11-4C81C740A60B
SUMMARY:Heimspiel Herren, ESV Delitzsch
CREATED:20260306T201532Z
DTSTAMP:20260306T201532Z
URL:https://sv-naundorf.de/index.php/vereinsheim-kalender/heimspiel-herren-esv-delitzsch
LAST-MODIFIED:20260306T201532Z
SEQUENCE:0
X-ACCESS:1
X-HITS:0
X-COLOR:ffff00
X-SHOW-END-TIME:1
END:VEVENT
BEGIN:VEVENT
DTSTART;TZID=UTC:20260418T103000
DTEND;TZID=UTC:20260418T120000
UID:670E3AE4-CFBE-4556-ABFB-5356B9D53A24
SUMMARY:E-Jugend Festivalturnier
CREATED:20260306T201820Z
DTSTAMP:20260306T201820Z
URL:https://sv-naundorf.de/index.php/vereinsheim-kalender/e-jugend-festivalturnier
LAST-MODIFIED:20260306T201820Z
SEQUENCE:0
X-ACCESS:1
X-HITS:0
X-COLOR:ffff00
X-SHOW-END-TIME:1
END:VEVENT
BEGIN:VEVENT
DTSTART;TZID=UTC:20260418T150000
DTEND;TZID=UTC:20260418T170000
UID:F30BF76A-B7F0-4D72-95A1-E3342A911D62
SUMMARY:Heimspiel Herren, FSV Wacker Dahlen
CREATED:20260306T201946Z
DTSTAMP:20260306T201946Z
URL:https://sv-naundorf.de/index.php/vereinsheim-kalender/heimspiel-herren-fsv-wacker-dahlen-2
LAST-MODIFIED:20260306T201946Z
SEQUENCE:0
X-ACCESS:1
X-HITS:0
X-COLOR:ffff00
X-SHOW-END-TIME:1
END:VEVENT
BEGIN:VEVENT
DTSTART;TZID=UTC:20260419T100000
DTEND;TZID=UTC:20260419T120000
UID:4A547B64-BC32-40D3-88A2-3C9ABF8B2643
SUMMARY:G-Jugend Festivalturnier
CREATED:20260306T202125Z
DTSTAMP:20260306T202125Z
URL:https://sv-naundorf.de/index.php/vereinsheim-kalender/g-jugend-festivalturnier
LAST-MODIFIED:20260306T202125Z
SEQUENCE:0
X-ACCESS:1
X-HITS:0
X-COLOR:ffff00
X-SHOW-END-TIME:1
END:VEVENT
BEGIN:VEVENT
DTSTART;VALUE=DATE:20260425
DTEND;VALUE=DATE:20260426
UID:0B6153FC-1A9A-44A1-AC0C-9235AAFE7E2B
SUMMARY:belegt
CREATED:20260130T114904Z
DTSTAMP:20260130T114904Z
URL:https://sv-naundorf.de/index.php/vereinsheim-kalender/belegt-33
DESCRIPTION:Vermietung Thomas Seiffert
X-ALT-DESC;FMTTYPE=text/html:<p>Vermietung Thomas Seiffert</p>
LAST-MODIFIED:20260130T114904Z
SEQUENCE:0
X-ACCESS:1
X-HITS:1
X-COLOR:fff000
X-SHOW-END-TIME:1
END:VEVENT
BEGIN:VEVENT
DTSTART;TZID=UTC:20260425T103000
DTEND;TZID=UTC:20260425T120000
UID:FC145C26-25C3-4AF8-A796-B17B137AE028
SUMMARY:Heimspiel D-Jugend, TSV Schildau II
CREATED:20260306T202248Z
DTSTAMP:20260306T202248Z
URL:https://sv-naundorf.de/index.php/vereinsheim-kalender/heimspiel-d-jugend-tsv-schildau-ii
LAST-MODIFIED:20260306T202248Z
SEQUENCE:0
X-ACCESS:1
X-HITS:0
X-COLOR:ffff00
X-SHOW-END-TIME:1
END:VEVENT
BEGIN:VEVENT
DTSTART;TZID=UTC:20260509T150000
DTEND;TZID=UTC:20260509T170000
UID:AF4203BF-0A5B-4DA7-A7E5-6E32031F78E9
SUMMARY:Heimspiel Herren, TSV Schildau
CREATED:20260306T202400Z
DTSTAMP:20260306T202400Z
URL:https://sv-naundorf.de/index.php/vereinsheim-kalender/heimspiel-herren-tsv-schildau
LAST-MODIFIED:20260306T202400Z
SEQUENCE:0
X-ACCESS:1
X-HITS:0
X-COLOR:ffff00
X-SHOW-END-TIME:1
END:VEVENT
BEGIN:VEVENT
DTSTART;TZID=UTC:20260509T180000
DTEND;TZID=UTC:20260510T100000
UID:F00C23CA-DDEE-45B8-BBA4-36C79A434C6C
SUMMARY:belegt
CREATED:20250819T095300Z
DTSTAMP:20250819T095300Z
URL:https://sv-naundorf.de/index.php/vereinsheim-kalender/belegt-28
DESCRIPTION:Niklas Freis (40. Geburtstag seiner Frau)
X-ALT-DESC;FMTTYPE=text/html:<p>Niklas Freis (40. Geburtstag seiner Frau)</p>
LAST-MODIFIED:20250819T095300Z
SEQUENCE:0
X-ACCESS:1
X-HITS:5
X-COLOR:ffff00
X-SHOW-END-TIME:0
END:VEVENT
BEGIN:VEVENT
DTSTART;TZID=UTC:20260516T103000
DTEND;TZID=UTC:20260516T120000
UID:CCE76F0B-431E-49EB-8DC9-0CC40294212C
SUMMARY:Heimspiel D-Jugend, SpG Pressel/Battuna Beach
CREATED:20260306T202546Z
DTSTAMP:20260306T202546Z
URL:https://sv-naundorf.de/index.php/vereinsheim-kalender/heimspiel-d-jugend-spg-pressel-battuna-beach
LAST-MODIFIED:20260306T202546Z
SEQUENCE:0
X-ACCESS:1
X-HITS:0
X-COLOR:ffff00
X-SHOW-END-TIME:1
END:VEVENT
BEGIN:VEVENT
DTSTART;VALUE=DATE:20260530
DTEND;VALUE=DATE:20260531
UID:8484C5E7-0C29-4D8E-AD18-7DB6D70E9E1A
SUMMARY:belegt
CREATED:20241023T121042Z
DTSTAMP:20241023T121042Z
URL:https://sv-naundorf.de/index.php/vereinsheim-kalender/belegt-23
DESCRIPTION:Jugendweihe Emma Lotta Barth
X-ALT-DESC;FMTTYPE=text/html:<p>Jugendweihe Emma Lotta Barth</p>
LAST-MODIFIED:20241023T121042Z
SEQUENCE:0
X-ACCESS:1
X-HITS:21
X-COLOR:ffff00
X-SHOW-END-TIME:1
END:VEVENT
BEGIN:VEVENT
DTSTART;TZID=UTC:20260530T150000
DTEND;TZID=UTC:20260530T170000
UID:580BDDBE-46F8-4F75-846F-C30DDBB004A8
SUMMARY:Heimspiel Herren, Blau Weiß Wermsdorf
CREATED:20260306T202704Z
DTSTAMP:20260306T202704Z
URL:https://sv-naundorf.de/index.php/vereinsheim-kalender/heimspiel-herren-blau-weiss-wermsdorf
LAST-MODIFIED:20260306T202704Z
SEQUENCE:0
X-ACCESS:1
X-HITS:0
X-COLOR:ffff00
X-SHOW-END-TIME:1
END:VEVENT
BEGIN:VEVENT
DTSTART;TZID=UTC:20260619T170000
DTEND;TZID=UTC:20260621T200000
UID:97C6D8C6-3D16-4C49-B29B-D5E576F83858
SUMMARY:Vereinsfest
CREATED:20251202T065339Z
DTSTAMP:20251202T065339Z
URL:https://sv-naundorf.de/index.php/vereinsheim-kalender/vereinsfest-4
DESCRIPTION:Vereinsfest
X-ALT-DESC;FMTTYPE=text/html:<p>Vereinsfest</p>
LAST-MODIFIED:20251202T065339Z
SEQUENCE:0
X-ACCESS:1
X-HITS:1
X-COLOR:ffff00
X-SHOW-END-TIME:1
END:VEVENT
BEGIN:VEVENT
DTSTART;VALUE=DATE:20260703
DTEND;VALUE=DATE:20260704
UID:F320C79E-F101-4CD7-868B-451C6822F8FE
SUMMARY:belegt
CREATED:20260306T200539Z
DTSTAMP:20260306T200539Z
URL:https://sv-naundorf.de/index.php/vereinsheim-kalender/belegt-34
DESCRIPTION:Martin Pille
X-ALT-DESC;FMTTYPE=text/html:<p>Martin Pille</p>
LAST-MODIFIED:20260306T200539Z
SEQUENCE:0
X-ACCESS:1
X-HITS:0
X-COLOR:ffff00
X-SHOW-END-TIME:0
END:VEVENT
BEGIN:VEVENT
DTSTART;VALUE=DATE:20260815
DTEND;VALUE=DATE:20260816
UID:E2F969E6-8421-4C1D-9BC7-0D2806797D76
SUMMARY:belegt
CREATED:20241023T121201Z
DTSTAMP:20241023T121201Z
URL:https://sv-naundorf.de/index.php/vereinsheim-kalender/belegt-24
DESCRIPTION:Schulanfang - Jasmin Barth
X-ALT-DESC;FMTTYPE=text/html:<p>Schulanfang - Jasmin Barth</p>
LAST-MODIFIED:20241023T121201Z
SEQUENCE:0
X-ACCESS:1
X-HITS:22
X-COLOR:ffff00
X-SHOW-END-TIME:1
END:VEVENT
BEGIN:VEVENT
DTSTART;TZID=UTC:20270522T100000
DTEND;TZID=UTC:20270522T230000
UID:ECCC6DBD-9A02-412A-93CC-8C98DE68D679
SUMMARY:belegt
CREATED:20240825T175851Z
DTSTAMP:20240825T175851Z
URL:https://sv-naundorf.de/index.php/vereinsheim-kalender/belegt-22
DESCRIPTION:Olaf Siegel
X-ALT-DESC;FMTTYPE=text/html:<p>Olaf Siegel</p>
LAST-MODIFIED:20240825T175855Z
SEQUENCE:4
X-ACCESS:1
X-HITS:17
X-COLOR:ffff00
X-SHOW-END-TIME:0
END:VEVENT
BEGIN:VEVENT
DTSTART;VALUE=DATE:20270821
DTEND;VALUE=DATE:20270822
UID:F6FA3B5C-ADAA-48DE-97A0-1E6D1EEBA707
SUMMARY:belegt
CREATED:20240223T191743Z
DTSTAMP:20240223T191743Z
URL:https://sv-naundorf.de/index.php/vereinsheim-kalender/belegt-16
DESCRIPTION:Miri Huth, Schulanfang
X-ALT-DESC;FMTTYPE=text/html:<p>Miri Huth, Schulanfang</p>
X-ACCESS:1
X-HITS:19
X-COLOR:ffff00
X-SHOW-END-TIME:0
END:VEVENT
END:VCALENDAR